BEGIN:VCALENDAR
VERSION:2.0
METHOD:PUBLISH
PRODID:-//eightway/atendo2//NONSGML v1.0//EN
BEGIN:VEVENT
DTSTAMP:20260420T90204Z
DTSTART:20191002T90000Z
DTEND:20191003T10000Z
LOCATION:Kirschbaumweg 26A, 50996 Köln, Germany (FKK Saunaclub Samya)
UID:85-103
SUMMARY:15 Jahre Samya
DESCRIPTION:https://www.freiercafe.net/kalender/15-jahre-samya.85/event?id=103
URL:https://www.freiercafe.net/kalender/15-jahre-samya.85/event?id=103
END:VEVENT
END:VCALENDAR