BEGIN:VCALENDAR
VERSION:2.0
METHOD:PUBLISH
PRODID:-//eightway/atendo2//NONSGML v1.0//EN
BEGIN:VEVENT
DTSTAMP:20260420T90202Z
DTSTART:20190928T90000Z
DTEND:20190929T30000Z
LOCATION:Bahnstraße 90, 47929 Grefrath, Germany (Saunaclub Villa Vanilla)
UID:83-101
SUMMARY:Oktoberfest in der Villa Vanilla
DESCRIPTION:https://www.freiercafe.net/kalender/oktoberfest-in-der-villa-vanilla.83/event?id=101
URL:https://www.freiercafe.net/kalender/oktoberfest-in-der-villa-vanilla.83/event?id=101
END:VEVENT
END:VCALENDAR