BEGIN:VCALENDAR
VERSION:2.0
METHOD:PUBLISH
PRODID:-//eightway/atendo2//NONSGML v1.0//EN
BEGIN:VEVENT
DTSTAMP:20260420T90307Z
DTSTART:20190921T90000Z
DTEND:20190922T30000Z
LOCATION:Robert-Zapp-Straße 2A, 40880 Ratingen, Germany (FKK &amp; Saunaclub Acapulco Gold)
UID:82-100
SUMMARY:Oktoberfest im Acapulco Gold Ratingen
DESCRIPTION:https://www.freiercafe.net/kalender/oktoberfest-im-acapulco-gold-ratingen.82/event?id=100
URL:https://www.freiercafe.net/kalender/oktoberfest-im-acapulco-gold-ratingen.82/event?id=100
END:VEVENT
END:VCALENDAR